BEGIN:VCALENDAR
VERSION:2.0
PRODID:-//Passaporto Eventi//IT
CALSCALE:GREGORIAN
BEGIN:VEVENT
UID:pdm-event-22066@passaportodelmolise.com
DTSTAMP:20260419T150305Z
DTSTART:20260508T160000Z
DTEND:20260509T140000Z
SUMMARY:I fucilieri di San Nicola
DESCRIPTION:Tradizionale parata dei fucilieri di San Nicola a San Giuliano del Sannio. Una storia lunga 300 anni https://passaportodelmolise.com/eventi/fucilieri-di-san-nicola/
LOCATION:San Giuliano del Sannio\, Piazza Libertà\, 21
URL:https://passaportodelmolise.com/eventi/fucilieri-di-san-nicola/
END:VEVENT
END:VCALENDAR