BEGIN:VCALENDAR
VERSION:2.0
PRODID:-//Passaporto Eventi//IT
CALSCALE:GREGORIAN
BEGIN:VEVENT
UID:pdm-event-22037@passaportodelmolise.com
DTSTAMP:20260419T150305Z
DTSTART:20260419T090000Z
DTEND:20260419T160000Z
SUMMARY:Il risveglio dell&#8217\;olivo
DESCRIPTION:Con la guida di due agronomi saremo sul campo per imparare a prenderci cura delle piante per un buon raccolto. Possibilità di fare pranzo sul posto con solo 10 euro https://passaportodelmolise.com/eventi/il-risveglio-dellolivo/
LOCATION:Campolieto\, Contrada marinera
URL:https://passaportodelmolise.com/eventi/il-risveglio-dellolivo/
END:VEVENT
END:VCALENDAR