BEGIN:VCALENDAR
VERSION:2.0
PRODID:-//Passaporto Eventi//IT
CALSCALE:GREGORIAN
BEGIN:VEVENT
UID:pdm-event-22034@passaportodelmolise.com
DTSTAMP:20260419T150243Z
DTSTART:20260831T000000Z
DTEND:20261228T000000Z
SUMMARY:Programma eventi Proloco Campolieto
DESCRIPTION:Tutti gli eventi in programma durante l'anno https://passaportodelmolise.com/eventi/programma-eventi-campolieto/
LOCATION:Campolieto
URL:https://passaportodelmolise.com/eventi/programma-eventi-campolieto/
END:VEVENT
END:VCALENDAR