BEGIN:VCALENDAR
VERSION:2.0
PRODID:-//Passaporto Eventi//IT
CALSCALE:GREGORIAN
BEGIN:VEVENT
UID:pdm-event-22032@passaportodelmolise.com
DTSTAMP:20260419T150243Z
DTSTART:20260425T090000Z
DTEND:20260425T190000Z
SUMMARY:Fiera di primavera
DESCRIPTION:Apertura stand ore 9:00. Durante la fiera sarà presente un laboratorio di ceramica aperto a tutti coloro che desiderano cimentarsi in questa affascinante arte.Troverete inoltre stand di artigianato\, hobbisti e tante deliziose specialità gastronomiche locali. https://passaportodelmolise.com/eventi/fiera-di-primavera-campolieto/
LOCATION:Campolieto\, Piazza San Giovanni
URL:https://passaportodelmolise.com/eventi/fiera-di-primavera-campolieto/
END:VEVENT
END:VCALENDAR