BEGIN:VCALENDAR
VERSION:2.0
PRODID:-//Passaporto Eventi//IT
CALSCALE:GREGORIAN
BEGIN:VEVENT
UID:pdm-event-22027@passaportodelmolise.com
DTSTAMP:20260419T150602Z
DTSTART:20260510T160000Z
DTEND:20260510T235900Z
SUMMARY:Radici che si Incontrano &#8211\; Tradizioni molisane della primavera
DESCRIPTION:🌿 RADICI CHE SI INCONTRANO 🌿 📍 Fossalto 📅 10 Maggio 2026 🕓 Dalle ore 16:00 Un appuntamento unico nel suo genere: il 1° Gemellaggio delle Tradizioni Molisane della Primavera 🌸 Per la prima volta\, alcune delle più affascinanti e antiche tradizioni del Molise si incontrano in un’unica giornata\, dando vita a un evento straordinario fatto di storia\, identità e cultura popolare. Sfileranno insieme: ✨ La Pagliara Maje Maje di Fossalto ✨ Majje Dde la Defenza di Lucito ✨ Il... https://passaportodelmolise.com/eventi/tradizioni-molisane-della-primavera/
LOCATION:Fossalto\, Piazza Roma
URL:https://passaportodelmolise.com/eventi/tradizioni-molisane-della-primavera/
END:VEVENT
END:VCALENDAR