BEGIN:VCALENDAR
VERSION:2.0
PRODID:-//Passaporto Eventi//IT
CALSCALE:GREGORIAN
BEGIN:VEVENT
UID:pdm-event-22025@passaportodelmolise.com
DTSTAMP:20260419T150330Z
DTSTART:20260501T100000Z
DTEND:20260501T235900Z
SUMMARY:Pagliara maje maje
DESCRIPTION:🎉 Torna la magia della tradizione! 🎉 Il 1° maggio a Fossalto torna uno degli eventi più affascinanti e antichi del Molise: la Festa della Pagliara “Maje Maje”! 🌿🔥 Un rito che affonda le sue radici nella storia contadina\, simbolo di rinascita\, primavera e comunità. Tra canti popolari\, costumi tradizionali e l’inconfondibile figura della Pagliara\, il paese si anima in un’atmosfera unica\, capace di emozionare grandi e piccoli. Un’occasione imperdibile per riscoprire le nostre origini\, vivere la cultura autentica e... https://passaportodelmolise.com/eventi/pagliara-maje-maje/
LOCATION:Fossalto\, Piazza Roma
URL:https://passaportodelmolise.com/eventi/pagliara-maje-maje/
END:VEVENT
END:VCALENDAR