BEGIN:VCALENDAR
VERSION:2.0
PRODID:-//Passaporto Eventi//IT
CALSCALE:GREGORIAN
BEGIN:VEVENT
UID:pdm-event-22011@passaportodelmolise.com
DTSTAMP:20260419T150104Z
DTSTART:20260607T080000Z
DTEND:20260607T100000Z
SUMMARY:I misteri di Corpus Domini a Campobasso
DESCRIPTION:A Campobasso\, nel giorno della festività del Corpus Domini\, i Misteri danno vita ad una suggestiva Processione che ha pochi paragoni in Italia e nel Mondo per la festosa partecipazione del popolo e per la maestosità degli ingegni che sfilano per le strade La Prossima Sfilata dei Misteri è il 7 giugno 2026 ore 8.00 – Santa Messa nel piazzale del Museo celebrata dal Vescovo\; ore 9.00 – Inizio della vestizione dei Misteri\; ore 9.45 – Uscita dei Misteri dal Museo per le vie della Città\;... https://passaportodelmolise.com/eventi/misteri-corpus-domini-campobasso/
LOCATION:Campobasso\, Via Trento\, 3
URL:https://passaportodelmolise.com/eventi/misteri-corpus-domini-campobasso/
END:VEVENT
END:VCALENDAR