BEGIN:VCALENDAR
VERSION:2.0
PRODID:-//Passaporto Eventi//IT
CALSCALE:GREGORIAN
BEGIN:VEVENT
UID:pdm-event-22007@passaportodelmolise.com
DTSTAMP:20260419T150212Z
DTSTART:20260508T213000Z
DTEND:20260508T233000Z
SUMMARY:I Collage in Concerto
DESCRIPTION:Rinasco tour dei Collage alla festa in onore del Patrono di Baranello\, San Michele Arcangelo https://passaportodelmolise.com/eventi/i-collage-in-concerto/
LOCATION:Baranello (CB)\, Piazza Santa Maria
URL:https://passaportodelmolise.com/eventi/i-collage-in-concerto/
END:VEVENT
END:VCALENDAR