BEGIN:VCALENDAR
VERSION:2.0
PRODID:-//Passaporto Eventi//IT
CALSCALE:GREGORIAN
BEGIN:VEVENT
UID:pdm-event-21917@passaportodelmolise.com
DTSTAMP:20260419T150357Z
DTSTART:20260808T200000Z
DTEND:20260808T030000Z
SUMMARY:Cantine Montelonghesi Paese diVino
DESCRIPTION:Una serata a base di vino a volontà\, buon cibo e musica\, in cui divertirsi insieme mangiando diverse pietanze\, ciascuna abbinata ad un vino (rosso\, bianco o rosato)\, passeggiando tra le vie del paese..per poi scatenarsi sotto le stelle col nostro djset🍷✨🕺🏻 https://passaportodelmolise.com/eventi/cantine-montelonghesi-paese-divino/
LOCATION:Montelongo
URL:https://passaportodelmolise.com/eventi/cantine-montelonghesi-paese-divino/
END:VEVENT
END:VCALENDAR